BEGIN:VCALENDAR
VERSION:2.0
CALSCALE:GREGORIAN
PRODID:-//Diputació de Barcelona//DibaCMS//EN
BEGIN:VEVENT
UID:8599
DTSTAMP:20260425T131218
DTSTART:20250628T213000
DTEND:20250628T230000
SUMMARY:Teatre: Molotov
LOCATION:Major, 2 08629 Torrelles de Llobregat
METHOD:PUBLISH
X-WR-CALNAME:info@torrelles.cat
X-WR-TIMEZONE:Europe/Madrid
DESCRIPTION:Un còctel de memòria i teatre. L’obra explica la vida i mort de Cipriano Martos, assassinat a la caserna de la Guàrdia Civil de Reus el 17 de setembre de 1973.

URI:https://www.torrelles.cat/actualitat/agenda/teatre-molotov.html
CLASS:PUBLIC
END:VEVENT
END:VCALENDAR
