BEGIN:VCALENDAR
VERSION:2.0
CALSCALE:GREGORIAN
PRODID:-//Diputació de Barcelona//DibaCMS//EN
BEGIN:VEVENT
UID:8612
DTSTAMP:20260425T131235
DTSTART:20250712T210000
DTEND:20250712T220000
SUMMARY:Ball de fi de curs de balls de saló
LOCATION:Major, 2 08629 Torrelles de Llobregat
METHOD:PUBLISH
X-WR-CALNAME:info@torrelles.cat
X-WR-TIMEZONE:Europe/Madrid
DESCRIPTION:Exhibició dels alumnes de balls de saló de l'Ateneu Torrellenc.

URI:https://www.torrelles.cat/actualitat/agenda/ball-de-fi-de-curs-de-balls-de-salo.html
CLASS:PUBLIC
END:VEVENT
END:VCALENDAR
