BEGIN:VCALENDAR
VERSION:2.0
CALSCALE:GREGORIAN
PRODID:-//Diputació de Barcelona//DibaCMS//EN
BEGIN:VEVENT
UID:8651
DTSTAMP:20260425T061554
DTSTART:20250908T180000
DTEND:20250908T190000
SUMMARY:Club de lectura infantil ‘Intrèpids lectors’
LOCATION:Major, 8 (Edifici de Can Camps) 08629 Torrelles de Llobregat
METHOD:PUBLISH
X-WR-CALNAME:info@torrelles.cat
X-WR-TIMEZONE:Europe/Madrid
DESCRIPTION:Lectura: Es comentaran les lectures d’aquest estiu i presentarà el programa del curs 2025/2026

Club de lectura per a nois i noies d'entre 11 i 12 anys. Dinamitzat per l’Inés Sentañes. Cal inscripció prèvia.

URI:https://www.torrelles.cat/actualitat/agenda/8651-club-de-lectura-infantil-intrepids-lectors.html
CLASS:PUBLIC
END:VEVENT
END:VCALENDAR
