BEGIN:VCALENDAR
VERSION:2.0
CALSCALE:GREGORIAN
PRODID:-//Diputació de Barcelona//DibaCMS//EN
BEGIN:VEVENT
UID:8653
DTSTAMP:20260425T145507
DTSTART:20250917T173000
DTEND:20250917T183000
SUMMARY:Contes menuts: Roba estesa
LOCATION:Major, 8 (Edifici de Can Camps) 08629 Torrelles de Llobregat
METHOD:PUBLISH
X-WR-CALNAME:info@torrelles.cat
X-WR-TIMEZONE:Europe/Madrid
DESCRIPTION:A càrrec de Sara Genovart. Activitat familiar amb infants menors de 3 anys.

URI:https://www.torrelles.cat/actualitat/agenda/contes-menuts-roba-estesa.html
CLASS:PUBLIC
END:VEVENT
END:VCALENDAR
