BEGIN:VCALENDAR
VERSION:2.0
CALSCALE:GREGORIAN
PRODID:-//Diputació de Barcelona//DibaCMS//EN
BEGIN:VEVENT
UID:8654
DTSTAMP:20260425T162353
DTSTART:20250923T173000
DTEND:20250923T183000
SUMMARY:Taller de tardor
LOCATION:Major, 8 (Edifici de Can Camps) 08629 Torrelles de Llobregat
METHOD:PUBLISH
X-WR-CALNAME:info@torrelles.cat
X-WR-TIMEZONE:Europe/Madrid
DESCRIPTION:
URI:https://www.torrelles.cat/actualitat/agenda/taller-de-tardor.html
CLASS:PUBLIC
END:VEVENT
END:VCALENDAR
