BEGIN:VCALENDAR
VERSION:2.0
CALSCALE:GREGORIAN
PRODID:-//Diputació de Barcelona//DibaCMS//EN
BEGIN:VEVENT
UID:8671
DTSTAMP:20260425T060132
DTSTART:20250916T200000
DTEND:20250916T210000
SUMMARY:Ple municipal extraordinari 16 de setembre de 2025
LOCATION:
METHOD:PUBLISH
X-WR-CALNAME:info@torrelles.cat
X-WR-TIMEZONE:Europe/Madrid
DESCRIPTION:El dijous 16 de setembre, se celebrarà Ple municipal, en sessió extraordinària, a les 20 hores, a la Sala de Plens de l'Ajuntament.

URI:https://www.torrelles.cat/actualitat/agenda/8671-ple-municipal-extraordinari-16-de-setembre-de-2025.html
CLASS:PUBLIC
END:VEVENT
END:VCALENDAR
