BEGIN:VCALENDAR
VERSION:2.0
CALSCALE:GREGORIAN
PRODID:-//Diputació de Barcelona//DibaCMS//EN
BEGIN:VEVENT
UID:8698
DTSTAMP:20260425T055317
DTSTART:20251014T173000
DTEND:20251014T183000
SUMMARY:Club de lectura ‘Petits Devorallibres’
LOCATION:Major, 8 (Edifici de Can Camps) 08629 Torrelles de Llobregat
METHOD:PUBLISH
X-WR-CALNAME:info@torrelles.cat
X-WR-TIMEZONE:Europe/Madrid
DESCRIPTION:Lectura: encara per a determinar

Activitat per a la millora de la lectura en veu alta entre infants de 6 i 7 anys. Cal inscripció prèvia.

URI:https://www.torrelles.cat/actualitat/agenda/8698-club-de-lectura-petits-devorallibres.html
CLASS:PUBLIC
END:VEVENT
END:VCALENDAR
