BEGIN:VCALENDAR
VERSION:2.0
CALSCALE:GREGORIAN
PRODID:-//Diputació de Barcelona//DibaCMS//EN
BEGIN:VEVENT
UID:8703
DTSTAMP:20260425T043227
DTSTART:20251017T140000
DTEND:20251017T170000
SUMMARY:Dinar de germanor i concert d'haveneres
LOCATION:Catalunya en Miniatura 08629 Torrelles de LLobregat
METHOD:PUBLISH
X-WR-CALNAME:info@torrelles.cat
X-WR-TIMEZONE:Europe/Madrid
DESCRIPTION:Dins de la Setmana de la Gent Gran.
 

URI:https://www.torrelles.cat/actualitat/agenda/dinar-de-germanor-i-concert-dhaveneres.html
CLASS:PUBLIC
END:VEVENT
END:VCALENDAR
