BEGIN:VCALENDAR
VERSION:2.0
CALSCALE:GREGORIAN
PRODID:-//Diputació de Barcelona//DibaCMS//EN
BEGIN:VEVENT
UID:8704
DTSTAMP:20260425T025845
DTSTART:20251021T173000
DTEND:20251021T183000
SUMMARY:L’hora del conte: Contes  anima(la)ts
LOCATION:Major, 8 (Edifici de Can Camps) 08629 Torrelles de Llobregat
METHOD:PUBLISH
X-WR-CALNAME:info@torrelles.cat
X-WR-TIMEZONE:Europe/Madrid
DESCRIPTION:A càrrec de Blai Senabre. Activitat familiar amb infants majors de 3 anys. 
 

URI:https://www.torrelles.cat/actualitat/agenda/8704-lhora-del-conte-contes-animalats.html
CLASS:PUBLIC
END:VEVENT
END:VCALENDAR
