BEGIN:VCALENDAR
VERSION:2.0
CALSCALE:GREGORIAN
PRODID:-//Diputació de Barcelona//DibaCMS//EN
BEGIN:VEVENT
UID:8776
DTSTAMP:20260425T041419
DTSTART:20251102T180000
DTEND:20251102T193000
SUMMARY:Teatre: Res de tu
LOCATION:Major, 2 08629 Torrelles de Llobregat
METHOD:PUBLISH
X-WR-CALNAME:info@torrelles.cat
X-WR-TIMEZONE:Europe/Madrid
DESCRIPTION:Obra intensa i emotiva que explora el desig, la soledat i l’obsessió a través de la relació entre un jove introvertit enamorat del seu millor amic, en un entorn universitari superficial que el fa sentir desconnectat de si mateix.

URI:https://www.torrelles.cat/actualitat/agenda/teatre-res-de-tu.html
CLASS:PUBLIC
END:VEVENT
END:VCALENDAR
