BEGIN:VCALENDAR
VERSION:2.0
CALSCALE:GREGORIAN
PRODID:-//Diputació de Barcelona//DibaCMS//EN
BEGIN:VEVENT
UID:8781
DTSTAMP:20260425T031040
DTSTART:20251104T173000
DTEND:20251104T183000
SUMMARY:L’hora del conte: Jacint, l’osset de peluix que volia ser un nen
LOCATION:Major, 8 (Edifici de Can Camps) 08629 Torrelles de Llobregat
METHOD:PUBLISH
X-WR-CALNAME:info@torrelles.cat
X-WR-TIMEZONE:Europe/Madrid
DESCRIPTION:A càrrec de Lletres màgiques. Activitat familiar amb infants majors de 3 anys. 

URI:https://www.torrelles.cat/actualitat/agenda/lhora-del-conte-jacint-losset-de-peluix-que-volia-ser-un-nen.html
CLASS:PUBLIC
END:VEVENT
END:VCALENDAR
