BEGIN:VCALENDAR
VERSION:2.0
CALSCALE:GREGORIAN
PRODID:-//Diputació de Barcelona//DibaCMS//EN
BEGIN:VEVENT
UID:8782
DTSTAMP:20260425T031131
DTSTART:20251110T180000
DTEND:20251110T190000
SUMMARY:Club de lectura infantil ‘Intrèpids lectors’
LOCATION:Major, 8 (Edifici de Can Camps) 08629 Torrelles de Llobregat
METHOD:PUBLISH
X-WR-CALNAME:info@torrelles.cat
X-WR-TIMEZONE:Europe/Madrid
DESCRIPTION:Lectura: Ara tornem. Hem anat un moment a l'Àfrica, d’Oliver Scherz

Club de lectura per a nois i noies d'entre 11 i 12 anys. Dinamitzat per l’Inés Sentañes. Cal inscripció prèvia.

URI:https://www.torrelles.cat/actualitat/agenda/8782-club-de-lectura-infantil-intrepids-lectors.html
CLASS:PUBLIC
END:VEVENT
END:VCALENDAR
