BEGIN:VCALENDAR
VERSION:2.0
CALSCALE:GREGORIAN
PRODID:-//Diputació de Barcelona//DibaCMS//EN
BEGIN:VEVENT
UID:8784
DTSTAMP:20260425T043708
DTSTART:20251118T173000
DTEND:20251118T183000
SUMMARY:BiblioLab: Som curiosos i experimentem... amb la llum
LOCATION:Major, 8 (Edifici de Can Camps) 08629 Torrelles de Llobregat
METHOD:PUBLISH
X-WR-CALNAME:info@torrelles.cat
X-WR-TIMEZONE:Europe/Madrid
DESCRIPTION:A càrrec d’El Taller. Activitat familiar a partir de 6 anys. També per a adolescents i adults.

URI:https://www.torrelles.cat/actualitat/agenda/bibliolab-som-curiosos-i-experimentem-amb-la-llum.html
CLASS:PUBLIC
END:VEVENT
END:VCALENDAR
