BEGIN:VCALENDAR
VERSION:2.0
CALSCALE:GREGORIAN
PRODID:-//Diputació de Barcelona//DibaCMS//EN
BEGIN:VEVENT
UID:8785
DTSTAMP:20260425T031636
DTSTART:20251120T180000
DTEND:20251120T190000
SUMMARY:Club de lectura 'Llibrenautes'
LOCATION:Major, 8 (Edifici de Can Camps) 08629 Torrelles de Llobregat
METHOD:PUBLISH
X-WR-CALNAME:info@torrelles.cat
X-WR-TIMEZONE:Europe/Madrid
DESCRIPTION:Lectura: La Violeta & Co canvien el món, de Raquel Díaz Reguera

Club de lectura per a infants de 8 a 10 anys. Dinamitzat per l’Inés Sentañes.

URI:https://www.torrelles.cat/actualitat/agenda/8785-club-de-lectura-llibrenautes.html
CLASS:PUBLIC
END:VEVENT
END:VCALENDAR
