BEGIN:VCALENDAR
VERSION:2.0
CALSCALE:GREGORIAN
PRODID:-//Diputació de Barcelona//DibaCMS//EN
BEGIN:VEVENT
UID:8799
DTSTAMP:20260425T060229
DTSTART:20251106T200000
DTEND:20251106T210000
SUMMARY:Ple municipal de 6 de novembre de 2025
LOCATION:
METHOD:PUBLISH
X-WR-CALNAME:info@torrelles.cat
X-WR-TIMEZONE:Europe/Madrid
DESCRIPTION:El Ple municipal, en sessió ordinària, se celebrarà el dious, 6 de novembre, a les 20 hores, a la Sala de Plens de l'Ajuntament. 

URI:https://www.torrelles.cat/actualitat/agenda/ple-municipal-de-6-de-novembre-de-2025.html
CLASS:PUBLIC
END:VEVENT
END:VCALENDAR
