BEGIN:VCALENDAR
VERSION:2.0
CALSCALE:GREGORIAN
PRODID:-//Diputació de Barcelona//DibaCMS//EN
BEGIN:VEVENT
UID:8864
DTSTAMP:20260425T043752
DTSTART:20251125T080000
DTEND:20251125T210000
SUMMARY:Acte institucional 25 N Dia Internacional contra les violències masclistes
LOCATION:
METHOD:PUBLISH
X-WR-CALNAME:info@torrelles.cat
X-WR-TIMEZONE:Europe/Madrid
DESCRIPTION:Aquest dimarts, 25 de novembre, tindrà lloc l'Acte institucional del 25N, Dia Internaional contra les violències maclistes, a les 20 hores, a la Plaça de l'Ajuntament.

URI:https://www.torrelles.cat/actualitat/agenda/acte-institucional-25-n-dia-internacional-contra-les-violencies-masclistes.html
CLASS:PUBLIC
END:VEVENT
END:VCALENDAR
