BEGIN:VCALENDAR
VERSION:2.0
CALSCALE:GREGORIAN
PRODID:-//Diputació de Barcelona//DibaCMS//EN
BEGIN:VEVENT
UID:8870
DTSTAMP:20260425T025613
DTSTART:20251127T180000
DTEND:20251127T190000
SUMMARY:Encesa llums de Nadal
LOCATION:Plaça Sant Martí 
METHOD:PUBLISH
X-WR-CALNAME:info@torrelles.cat
X-WR-TIMEZONE:Europe/Madrid
DESCRIPTION:Aquest dijous, tindrà lloc l'encesa de llums de Nadal, a les 18 hores, a la Plaça Sant Martí, amb aquest acte donarem inici a les festes nadalenques. Serà un moment especial per compartir plegats la il·lusió i l’esperit d’aquestes dates.

URI:https://www.torrelles.cat/actualitat/agenda/encesa-llums-de-nadal.html
CLASS:PUBLIC
END:VEVENT
END:VCALENDAR
