BEGIN:VCALENDAR
VERSION:2.0
CALSCALE:GREGORIAN
PRODID:-//Diputació de Barcelona//DibaCMS//EN
BEGIN:VEVENT
UID:8900
DTSTAMP:20260424T222433
DTSTART:20260117T213000
DTEND:20260117T230000
SUMMARY:Cinema: Los domingos
LOCATION:Major, 2 08629 Torrelles de Llobregat
METHOD:PUBLISH
X-WR-CALNAME:info@torrelles.cat
X-WR-TIMEZONE:Europe/Madrid
DESCRIPTION:
URI:https://www.torrelles.cat/actualitat/agenda/cinema-los-domingos.html
CLASS:PUBLIC
END:VEVENT
END:VCALENDAR
