BEGIN:VCALENDAR
VERSION:2.0
CALSCALE:GREGORIAN
PRODID:-//Diputació de Barcelona//DibaCMS//EN
BEGIN:VEVENT
UID:8902
DTSTAMP:20260425T010805
DTSTART:20260207T213000
DTEND:20260207T230000
SUMMARY:Cinema: Frontera
LOCATION:Major, 2 08629 Torrelles de Llobregat
METHOD:PUBLISH
X-WR-CALNAME:info@torrelles.cat
X-WR-TIMEZONE:Europe/Madrid
DESCRIPTION:Sinopsi: Any 1943, plena guerra a Europa. Franco ha bloquejat el pas dels jueus que es fugen de la repressió nazi pels Pirineus. A la duana d'un poble fronterer, Manel Grau, un funcionari amb passat republicà, decideix contravenir les ordres ajudat per la Juliana, una veïna del poble, i en Jerôme, un passador francès. Entre tots inicien una croada per ajudar a fugir tants jueus com sigui possible. És llavors quan en Manel es veurà atrapat en una perillosa odissea que despertarà en ell i en la seva dona, la Mercé, vells fantasmes de l'encara recent Guerra Civil espanyola.

URI:https://www.torrelles.cat/actualitat/agenda/cinema-frontera.html
CLASS:PUBLIC
END:VEVENT
END:VCALENDAR
