BEGIN:VCALENDAR
VERSION:2.0
CALSCALE:GREGORIAN
PRODID:-//Diputació de Barcelona//DibaCMS//EN
BEGIN:VEVENT
UID:8917
DTSTAMP:20260425T054533
DTSTART:20260113T173000
DTEND:20260113T183000
SUMMARY:Taller de manualitats
LOCATION:Major, 8 (Edifici de Can Camps) 08629 Torrelles de Llobregat
METHOD:PUBLISH
X-WR-CALNAME:info@torrelles.cat
X-WR-TIMEZONE:Europe/Madrid
DESCRIPTION:Farem un entranyable animaló amb cartolina i altres materials.

URI:https://www.torrelles.cat/actualitat/agenda/8917-taller-de-manualitats.html
CLASS:PUBLIC
END:VEVENT
END:VCALENDAR
