BEGIN:VCALENDAR
VERSION:2.0
CALSCALE:GREGORIAN
PRODID:-//Diputació de Barcelona//DibaCMS//EN
BEGIN:VEVENT
UID:8918
DTSTAMP:20260425T012322
DTSTART:20260109T193000
DTEND:20260109T203000
SUMMARY:Inauguració de l’exposició: José Ibarrola. Tiempo fugitivo
LOCATION:Major, 2 08629 Torrelles de Llobregat
METHOD:PUBLISH
X-WR-CALNAME:info@torrelles.cat
X-WR-TIMEZONE:Europe/Madrid
DESCRIPTION:Pintura basca contemporània.

URI:https://www.torrelles.cat/actualitat/agenda/inauguracio-de-lexposicio-jose-ibarrola-tiempo-fugitivo.html
CLASS:PUBLIC
END:VEVENT
END:VCALENDAR
