BEGIN:VCALENDAR
VERSION:2.0
CALSCALE:GREGORIAN
PRODID:-//Diputació de Barcelona//DibaCMS//EN
BEGIN:VEVENT
UID:8933
DTSTAMP:20260424T234416
DTSTART:20260217T180000
DTEND:20260217T190000
SUMMARY:Club de lectura. Els petits devorallibres
LOCATION:Major, 8 (Edifici de Can Camps) 08629 Torrelles de Llobregat
METHOD:PUBLISH
X-WR-CALNAME:info@torrelles.cat
X-WR-TIMEZONE:Europe/Madrid
DESCRIPTION:Activitat per a la millora de la lectura en veu alta entre infants de 6 i 7 anys.

URI:https://www.torrelles.cat/actualitat/agenda/club-de-lectura-els-petits-devorallibres.html
CLASS:PUBLIC
END:VEVENT
END:VCALENDAR
