BEGIN:VCALENDAR
VERSION:2.0
CALSCALE:GREGORIAN
PRODID:-//Diputació de Barcelona//DibaCMS//EN
BEGIN:VEVENT
UID:8950
DTSTAMP:20260421T105629
DTSTART:20260122T110000
DTEND:20260122T120000
SUMMARY:Reunió amb gerència d'Aigües de Barcelona sobre el Pla d'actuacions correctives del sistema de sanejament
LOCATION:
METHOD:PUBLISH
X-WR-CALNAME:info@torrelles.cat
X-WR-TIMEZONE:Europe/Madrid
DESCRIPTION:
URI:https://www.torrelles.cat/ajuntament/govern/alcaldia/reunio-amb-gerencia-daigues-de-barcelona-sobre-el-pla-dactuacions-correctives-del-sistema-de-sanejament.html
CLASS:PUBLIC
END:VEVENT
END:VCALENDAR
