BEGIN:VCALENDAR
VERSION:2.0
CALSCALE:GREGORIAN
PRODID:-//Diputació de Barcelona//DibaCMS//EN
BEGIN:VEVENT
UID:8970
DTSTAMP:20260420T103000
DTSTART:20260205T200000
DTEND:20260205T210000
SUMMARY:Ple municipal
LOCATION:
METHOD:PUBLISH
X-WR-CALNAME:info@torrelles.cat
X-WR-TIMEZONE:Europe/Madrid
DESCRIPTION:
URI:https://www.torrelles.cat/ajuntament/govern/alcaldia/8970-ple-municipal.html
CLASS:PUBLIC
END:VEVENT
END:VCALENDAR
