BEGIN:VCALENDAR
VERSION:2.0
CALSCALE:GREGORIAN
PRODID:-//Diputació de Barcelona//DibaCMS//EN
BEGIN:VEVENT
UID:9024
DTSTAMP:20260421T122946
DTSTART:20260327T093000
DTEND:20260327T103000
SUMMARY:Junta de Govern     
LOCATION:
METHOD:PUBLISH
X-WR-CALNAME:info@torrelles.cat
X-WR-TIMEZONE:Europe/Madrid
DESCRIPTION:
URI:https://www.torrelles.cat/ajuntament/govern/alcaldia/9024-junta-de-govern-.html
CLASS:PUBLIC
END:VEVENT
END:VCALENDAR
