BEGIN:VCALENDAR
VERSION:2.0
CALSCALE:GREGORIAN
PRODID:-//Diputació de Barcelona//DibaCMS//EN
BEGIN:VEVENT
UID:9052
DTSTAMP:20260425T041532
DTSTART:20260317T180000
DTEND:20260317T190000
SUMMARY:Club de lectura dels Devorallibres
LOCATION:Major, 8 (Edifici de Can Camps) 08629 Torrelles de Llobregat
METHOD:PUBLISH
X-WR-CALNAME:info@torrelles.cat
X-WR-TIMEZONE:Europe/Madrid
DESCRIPTION:Club de lectura adreçat a nens i nenes d’entre 6 i 7anys. Es reuneixen un cop al mes a llegir el mateix llibre, quan acaba la lectura, comparteixen impressions i participen en activitats creatives relacionades amb la història.

L’objectiu és gaudir de la lectura en un ambient divertit i participatiu, tot comentant el llibre i expressant emocions, idees i reflexions que han sorgit durant la lectura.

 

URI:https://www.torrelles.cat/actualitat/agenda/club-de-lectura-dels-devorallibres.html
CLASS:PUBLIC
END:VEVENT
END:VCALENDAR
