BEGIN:VCALENDAR
VERSION:2.0
CALSCALE:GREGORIAN
PRODID:-//Diputació de Barcelona//DibaCMS//EN
BEGIN:VEVENT
UID:9053
DTSTAMP:20260425T052241
DTSTART:20260319T180000
DTEND:20260319T190000
SUMMARY:Club de lectura dels Llibrenautes
LOCATION:Major, 8 (Edifici de Can Camps) 08629 Torrelles de Llobregat
METHOD:PUBLISH
X-WR-CALNAME:info@torrelles.cat
X-WR-TIMEZONE:Europe/Madrid
DESCRIPTION:Club de lectura adreçat a nens i nenes d'entre 8 i 10 anys. El segons dijous de cada mes es reuneixen per compartir idees, emocions i reflexions que sorgeixen durant la lectura. 

URI:https://www.torrelles.cat/actualitat/agenda/9053-club-de-lectura-dels-llibrenautes.html
CLASS:PUBLIC
END:VEVENT
END:VCALENDAR
