BEGIN:VCALENDAR
VERSION:2.0
CALSCALE:GREGORIAN
PRODID:-//Diputació de Barcelona//DibaCMS//EN
BEGIN:VEVENT
UID:9054
DTSTAMP:20260425T024149
DTSTART:20260324T173000
DTEND:20260324T183000
SUMMARY:Taller de primavera
LOCATION:Major, 8 (Edifici de Can Camps) 08629 Torrelles de Llobregat
METHOD:PUBLISH
X-WR-CALNAME:info@torrelles.cat
X-WR-TIMEZONE:Europe/Madrid
DESCRIPTION:La primavera ja ha arribat i a la biblioteca ho volem celebrar amb un taller que de ben segur serà molt colorit!

URI:https://www.torrelles.cat/actualitat/agenda/9054-taller-de-primavera.html
CLASS:PUBLIC
END:VEVENT
END:VCALENDAR
