BEGIN:VCALENDAR
VERSION:2.0
CALSCALE:GREGORIAN
PRODID:-//Diputació de Barcelona//DibaCMS//EN
BEGIN:VEVENT
UID:9059
DTSTAMP:20260425T010659
DTSTART:20260325T191500
DTEND:20260325T201500
SUMMARY:Club de lectura de teatre
LOCATION:Major, 8 (Edifici de Can Camps) 08629 Torrelles de Llobregat
METHOD:PUBLISH
X-WR-CALNAME:info@torrelles.cat
X-WR-TIMEZONE:Europe/Madrid
DESCRIPTION:Llegir el teatre, dona nom al club de lectura sobre teatre de la biblioteca. L'últim dimecres de mes es reuneixen per llegir les obres de teatre que els participants poden veure representades al TNC, amb un descompte per pertànyer al club.

URI:https://www.torrelles.cat/actualitat/agenda/club-de-lectura-de-teatre.html
CLASS:PUBLIC
END:VEVENT
END:VCALENDAR
