BEGIN:VCALENDAR
VERSION:2.0
CALSCALE:GREGORIAN
PRODID:-//Diputació de Barcelona//DibaCMS//EN
BEGIN:VEVENT
UID:9061
DTSTAMP:20260425T012410
DTSTART:20260315T120000
DTEND:20260315T130000
SUMMARY:La fauna secreta del parc i taller de petjades
LOCATION:08629 Torrelles de Llobregat
METHOD:PUBLISH
X-WR-CALNAME:info@torrelles.cat
X-WR-TIMEZONE:Europe/Madrid
DESCRIPTION:Taller de biodiversitat

URI:https://www.torrelles.cat/actualitat/agenda/la-fauna-secreta-del-parc-i-taller-de-petjades.html
CLASS:PUBLIC
END:VEVENT
END:VCALENDAR
