BEGIN:VCALENDAR
VERSION:2.0
CALSCALE:GREGORIAN
PRODID:-//Diputació de Barcelona//DibaCMS//EN
BEGIN:VEVENT
UID:9062
DTSTAMP:20260425T162221
DTSTART:20260322T120000
DTEND:20260322T130000
SUMMARY:Taller de construcció i col·locació de caixes niu
LOCATION:08629 Torrelles de Llobregat
METHOD:PUBLISH
X-WR-CALNAME:info@torrelles.cat
X-WR-TIMEZONE:Europe/Madrid
DESCRIPTION:Taller de construcció i col·locació de caixes niu

URI:https://www.torrelles.cat/actualitat/agenda/taller-de-construccio-i-collocacio-de-caixes-niu.html
CLASS:PUBLIC
END:VEVENT
END:VCALENDAR
