BEGIN:VCALENDAR
VERSION:2.0
CALSCALE:GREGORIAN
PRODID:-//Diputació de Barcelona//DibaCMS//EN
BEGIN:VEVENT
UID:9068
DTSTAMP:20260425T010608
DTSTART:20260304T173000
DTEND:20260304T190000
SUMMARY:"Parlem de sexualitat sana: la copa menstrual i els métodes anticonceptius"
LOCATION:Carrer d’Enric Teira, s/n 08629 Torrelles de Llobregat
METHOD:PUBLISH
X-WR-CALNAME:info@torrelles.cat
X-WR-TIMEZONE:Europe/Madrid
DESCRIPTION:Dins dels actes del 8M

Més informació a instagram@jovestorrelles

Organitza: Casal de Joves El Club i Ajuntament de Torrelles de Llobregat

URI:https://www.torrelles.cat/actualitat/agenda/parlem-de-sexualitat-sana-la-copa-menstrual-i-els-metodes-anticonceptius.html
CLASS:PUBLIC
END:VEVENT
END:VCALENDAR
