BEGIN:VCALENDAR
VERSION:2.0
CALSCALE:GREGORIAN
PRODID:-//Diputació de Barcelona//DibaCMS//EN
BEGIN:VEVENT
UID:9070
DTSTAMP:20260425T054331
DTSTART:20260307T090000
DTEND:20260307T110000
SUMMARY:Caminada i esmorzar de dones al Jardí de les Oliveres
LOCATION:Sortida de Ca la Bruixa 
METHOD:PUBLISH
X-WR-CALNAME:info@torrelles.cat
X-WR-TIMEZONE:Europe/Madrid
DESCRIPTION:Inscripcions a Nin i Nines fins el 5 de març i per whatsapp al 667.474.897

Dins dels actes del 8M.

Organitza: Associació de Dones Pla de les Bruixes

URI:https://www.torrelles.cat/actualitat/agenda/caminada-i-esmorzar-de-dones-al-jardi-de-les-oliveres.html
CLASS:PUBLIC
END:VEVENT
END:VCALENDAR
