BEGIN:VCALENDAR
VERSION:2.0
CALSCALE:GREGORIAN
PRODID:-//Diputació de Barcelona//DibaCMS//EN
BEGIN:VEVENT
UID:9071
DTSTAMP:20260425T012935
DTSTART:20260307T170000
DTEND:20260307T180000
SUMMARY:Inauguració de l'exposició fotogràfica "La Bellesa de la Vellesa"
LOCATION:Martí Mas, 5 08629 Torrelles de Llobregat
METHOD:PUBLISH
X-WR-CALNAME:info@torrelles.cat
X-WR-TIMEZONE:Europe/Madrid
DESCRIPTION:A càrrec de Nolasc Tussel, un retrat íntim i delicat de les dones usuàries del Casal de la Gent Gran que posa en valor la saviesa, la vida viscuda i la vida en comunitat. Es podrà visitar del 7 al 14 de març.

Organitza: Espai de la Gent Gran i Ajuntament de Torrelles de Llobregat

URI:https://www.torrelles.cat/actualitat/agenda/inauguracio-de-lexposicio-fotografica-la-bellesa-de-la-vellesa.html
CLASS:PUBLIC
END:VEVENT
END:VCALENDAR
