BEGIN:VCALENDAR
VERSION:2.0
CALSCALE:GREGORIAN
PRODID:-//Diputació de Barcelona//DibaCMS//EN
BEGIN:VEVENT
UID:9155
DTSTAMP:20260424T033446
DTSTART:20260425T180000
DTEND:20260426T023000
SUMMARY:TascóRock 2026
LOCATION:Parc de Can Sostres 
METHOD:PUBLISH
X-WR-CALNAME:info@torrelles.cat
X-WR-TIMEZONE:Europe/Madrid
DESCRIPTION:6a Edició Tascórock

El TASCÓ ROCK torna a esclatar... i aquest any no venim a fer soroll. Venim a FER HISTÒRIA.

URI:https://www.torrelles.cat/actualitat/agenda/tascorock-2026.html
CLASS:PUBLIC
END:VEVENT
END:VCALENDAR
