BEGIN:VCALENDAR
VERSION:2.0
CALSCALE:GREGORIAN
PRODID:-//Diputació de Barcelona//DibaCMS//EN
BEGIN:VEVENT
UID:9158
DTSTAMP:20260420T232225
DTSTART:20260506T160000
DTEND:20260506T170000
SUMMARY:Acord de País per a l'educació al Consell Comarcal del Baix Llobregat
LOCATION:
METHOD:PUBLISH
X-WR-CALNAME:info@torrelles.cat
X-WR-TIMEZONE:Europe/Madrid
DESCRIPTION:
URI:https://www.torrelles.cat/ajuntament/govern/alcaldia/acord-de-pais-per-a-leducacio-al-consell-comarcal-del-baix-llobregat.html
CLASS:PUBLIC
END:VEVENT
END:VCALENDAR
