BEGIN:VCALENDAR
VERSION:2.0
CALSCALE:GREGORIAN
PRODID:-//Diputació de Barcelona//DibaCMS//EN
BEGIN:VEVENT
UID:9162
DTSTAMP:20260420T233044
DTSTART:20260617T163000
DTEND:20260617T173000
SUMMARY:Junta General d'Accionistes de TERSA
LOCATION:
METHOD:PUBLISH
X-WR-CALNAME:info@torrelles.cat
X-WR-TIMEZONE:Europe/Madrid
DESCRIPTION:
URI:https://www.torrelles.cat/ajuntament/govern/alcaldia/junta-general-daccionistes-de-tersa.html
CLASS:PUBLIC
END:VEVENT
END:VCALENDAR
