BEGIN:VCALENDAR
VERSION:2.0
CALSCALE:GREGORIAN
PRODID:-//Diputació de Barcelona//DibaCMS//EN
BEGIN:VEVENT
UID:9168
DTSTAMP:20260421T035131
DTSTART:20260423T180000
DTEND:20260423T190000
SUMMARY:Un Conte Dansat
LOCATION:Plaça de la Tal·lara 
METHOD:PUBLISH
X-WR-CALNAME:info@torrelles.cat
X-WR-TIMEZONE:Europe/Madrid
DESCRIPTION:Ball dels grups infantils amb motiu de la Diada de Sant Jordi.

URI:https://www.torrelles.cat/actualitat/agenda/un-conte-dansat.html
CLASS:PUBLIC
END:VEVENT
END:VCALENDAR
