BEGIN:VCALENDAR
VERSION:2.0
CALSCALE:GREGORIAN
PRODID:-//Diputació de Barcelona//DibaCMS//EN
BEGIN:VEVENT
UID:9169
DTSTAMP:20260425T052743
DTSTART:20260423T193000
DTEND:20260423T204500
SUMMARY:Presentació del llibre "DEL TRAÇ A LA PARAULA"
LOCATION:Major, 2 08629 Torrelles de Llobregat
METHOD:PUBLISH
X-WR-CALNAME:info@torrelles.cat
X-WR-TIMEZONE:Europe/Madrid
DESCRIPTION:Presentació del llibre "DEL TRAÇ A LA PARAULA", llibre de relats escrits per divuit autors de Torrelles que tenen en comú haver-se inspirat en les il·lustracions fetes per artistes de Torrelles que formen part de la col·lectiva del mes d'abril que s'exposa a l'Ateneu Torrellenc.

URI:https://www.torrelles.cat/actualitat/agenda/presentacio-del-llibre-del-trac-a-la-paraula.html
CLASS:PUBLIC
END:VEVENT
END:VCALENDAR
