BEGIN:VCALENDAR
VERSION:2.0
CALSCALE:GREGORIAN
PRODID:-//Diputació de Barcelona//DibaCMS//EN
BEGIN:VEVENT
UID:9173
DTSTAMP:20260422T132247
DTSTART:20260423T110000
DTEND:20260423T120000
SUMMARY:Celebració de Sant Jordi amb l'Espai de la Gent Gran al jardí de la Biblioteca
LOCATION:
METHOD:PUBLISH
X-WR-CALNAME:info@torrelles.cat
X-WR-TIMEZONE:Europe/Madrid
DESCRIPTION:
URI:https://www.torrelles.cat/ajuntament/govern/alcaldia/celebracio-de-sant-jordi-amb-lespai-de-la-gent-gran-al-jardi-de-la-biblioteca.html
CLASS:PUBLIC
END:VEVENT
END:VCALENDAR
