BEGIN:VCALENDAR
VERSION:2.0
CALSCALE:GREGORIAN
PRODID:-//Diputació de Barcelona//DibaCMS//EN
BEGIN:VEVENT
UID:9174
DTSTAMP:20260421T214512
DTSTART:20260423T100000
DTEND:20260423T200000
SUMMARY:Parades de Sant Jordi
LOCATION:C. Major (entre la Pl. St. Martí i el c. Joan Maragall) 
METHOD:PUBLISH
X-WR-CALNAME:info@torrelles.cat
X-WR-TIMEZONE:Europe/Madrid
DESCRIPTION:
URI:https://www.torrelles.cat/actualitat/agenda/9174-parades-de-sant-jordi.html
CLASS:PUBLIC
END:VEVENT
END:VCALENDAR
