BEGIN:VCALENDAR
VERSION:2.0
CALSCALE:GREGORIAN
PRODID:-//Diputació de Barcelona//DibaCMS//EN
BEGIN:VEVENT
UID:9175
DTSTAMP:20260422T071317
DTSTART:20260423T170000
DTEND:20260423T200000
SUMMARY:Signatures de llibres d'autors locals
LOCATION:C. Major , 28 (Nins i Nines)  
METHOD:PUBLISH
X-WR-CALNAME:info@torrelles.cat
X-WR-TIMEZONE:Europe/Madrid
DESCRIPTION:
URI:https://www.torrelles.cat/actualitat/agenda/signatures-de-llibres-dautors-locals.html
CLASS:PUBLIC
END:VEVENT
END:VCALENDAR
