BEGIN:VCALENDAR
VERSION:2.0
CALSCALE:GREGORIAN
PRODID:-//Diputació de Barcelona//DibaCMS//EN
BEGIN:VEVENT
UID:9176
DTSTAMP:20260423T032914
DTSTART:20260423T170000
DTEND:20260423T183000
SUMMARY:Taller de roses dolces i punts de llibre
LOCATION:C. Major (entre Pl. de St. Martí i c. Joan Maragall) 
METHOD:PUBLISH
X-WR-CALNAME:info@torrelles.cat
X-WR-TIMEZONE:Europe/Madrid
DESCRIPTION:Organitza: AFA de l'IE Torrelles

URI:https://www.torrelles.cat/actualitat/agenda/taller-de-roses-dolces-i-punts-de-llibre.html
CLASS:PUBLIC
END:VEVENT
END:VCALENDAR
