BEGIN:VCALENDAR
VERSION:2.0
CALSCALE:GREGORIAN
PRODID:-//Diputació de Barcelona//DibaCMS//EN
BEGIN:VEVENT
UID:9177
DTSTAMP:20260423T032708
DTSTART:20260423T170000
DTEND:20260423T203000
SUMMARY:Parades d'associacions
LOCATION:C. Major (entre Pl. de St. Martí i c. Joan Maragall) 
METHOD:PUBLISH
X-WR-CALNAME:info@torrelles.cat
X-WR-TIMEZONE:Europe/Madrid
DESCRIPTION:Organitza: AFA de l'IE Torrelles i ANC Torrelles

URI:https://www.torrelles.cat/actualitat/agenda/parades-dassociacions.html
CLASS:PUBLIC
END:VEVENT
END:VCALENDAR
