BEGIN:VCALENDAR
VERSION:2.0
CALSCALE:GREGORIAN
PRODID:-//Diputació de Barcelona//DibaCMS//EN
BEGIN:VEVENT
UID:9180
DTSTAMP:20260424T033945
DTSTART:20260426T110000
DTEND:20260426T120000
SUMMARY:Espectacle: La llegenda de Sant Jordi 
LOCATION:Major, 2 08629 Torrelles de Llobregat
METHOD:PUBLISH
X-WR-CALNAME:info@torrelles.cat
X-WR-TIMEZONE:Europe/Madrid
DESCRIPTION:Organitza: Alumnes 4rt ESO de l'IE Torrelles

URI:https://www.torrelles.cat/actualitat/agenda/espectacle-la-llegenda-de-sant-jordi-.html
CLASS:PUBLIC
END:VEVENT
END:VCALENDAR
